Workbook
Name AdminCategoryList: AdminCategories[Administration]
Name ArtCulturalCategoryList: ArtCulturalCategories[Artistic and Cultural Content]
Name EarnedRevenueCategoryList: EarnedRevenueCategories[Earned and Other Revenue]
Name GrantsGovCategoryList: Lists!$E$2:$E$12
Name InKindCategoryList: _xlfn.ANCHORARRAY(Lists!$I$2)
Name InKindKeep: (InKindCat<>"")+(InKindBud<>"")+(InKindAct<>"")
Name PrivateSectorCategoryList: PrivateSectorCategories[Private Sector]
Name ProdLogisticsCategoryList: ProdLogisticsCategories[Production Logistics]
Name PromoCategoryList: PromoCategories[Promotions & Marketing]

Sheet FPG Financial Report Template
B1: FESTIVAL PROJECT GRANT PROGRAM
B2: FINANCIAL REPORTING FORM - 2027
E3: Event Name:
E4: Grant Request Amount:
B5: EXPENSES
B6: SR No. | C6: Expense Category | D6: Item Description | E6: BUDGETED | F6: ACTUAL
B7: Administration & Project Management | D7: Include details for each expense row/item as needed. All items must be project related and prorated | E7: =SUM(INDEX(E:E,ROW()+1):INDEX(E:E,ROW($B$18)-1)) -> 0 | F7: =SUM(INDEX(F:F,ROW()+1):INDEX(F:F,ROW($B$18)-1)) -> 0
B8: =MAX(B$6:B7)+1 -> 1
B9: =MAX(B$6:B8)+1 -> 2
B10: =MAX(B$6:B9)+1 -> 3
B11: =MAX(B$6:B10)+1 -> 4
B12: =MAX(B$6:B11)+1 -> 5
B13: =MAX(B$6:B12)+1 -> 6
B14: =MAX(B$6:B13)+1 -> 7
B15: =MAX(B$6:B14)+1 -> 8
B16: =MAX(B$6:B15)+1 -> 9
B17: =MAX(B$6:B16)+1 -> 10
B18: IN-KIND Administration & Project Management | D18: Please add all in-kind contributions for Administration & Project Management | E18: =SUM(INDEX(E:E,ROW()+1):INDEX(E:E,ROW($B$29)-1)) -> 0 | F18: =SUM(INDEX(F:F,ROW()+1):INDEX(F:F,ROW($B$29)-1)) -> 0
B19: =MAX(B$6:B18)+1 -> 11
B20: =MAX(B$6:B19)+1 -> 12
B21: =MAX(B$6:B20)+1 -> 13
B22: =MAX(B$6:B21)+1 -> 14
B23: =MAX(B$6:B22)+1 -> 15
B24: =MAX(B$6:B23)+1 -> 16
B25: =MAX(B$6:B24)+1 -> 17
B26: =MAX(B$6:B25)+1 -> 18
B27: =MAX(B$6:B26)+1 -> 19
B28: =MAX(B$6:B27)+1 -> 20
B29: Artistic & Cultural | D29: Include details for each expense row/item as needed | E29: =SUM(INDEX(E:E,ROW()+1):INDEX(E:E,ROW($B$40)-1)) -> 0 | F29: =SUM(INDEX(F:F,ROW()+1):INDEX(F:F,ROW($B$40)-1)) -> 0
B30: =MAX(B$6:B29)+1 -> 21
B31: =MAX(B$6:B30)+1 -> 22
B32: =MAX(B$6:B31)+1 -> 23
B33: =MAX(B$6:B32)+1 -> 24
B34: =MAX(B$6:B33)+1 -> 25
B35: =MAX(B$6:B34)+1 -> 26
B36: =MAX(B$6:B35)+1 -> 27
B37: =MAX(B$6:B36)+1 -> 28
B38: =MAX(B$6:B37)+1 -> 29
B39: =MAX(B$6:B38)+1 -> 30
B40: IN-KIND Artistic & Cultural | D40: Please add all in-kind contributions for Artistic and Cultural | E40: =SUM(INDEX(E:E,ROW()+1):INDEX(E:E,ROW($B$51)-1)) -> 0 | F40: =SUM(INDEX(F:F,ROW()+1):INDEX(F:F,ROW($B$51)-1)) -> 0
...

Sheet Lists
A1: Administration | B1: Artistic and Cultural Content | C1: Production Logistics | D1: Promotions & Marketing | E1: Grants - Government | F1: Private Sector | G1: Earned and Other Revenue | I1: In-Kind Expense Categories
A2: Accounting | B2: Accommodation | C2: AV Equipment | D2: Advertising | E2: BC Arts Council | F2: Donation | G2: Beverage Sales | I2: {=_xlfn._xlws.SORT(_xlfn.UNIQUE(_xlfn.VSTACK(AdminCategories[Administration],ArtCulturalCategories[Artistic and Cultural Content],ProdLogisticsCategories[Production Logistics],PromoCategories[Promotions & Marketing])))} -> Accommodation
A3: Administrative Staff | B3: Adjudicator Fees | C3: Equipment Rental | D3: Communications Staff | E3: BC Community Gaming | F3: Foundation Grant | G3: Endowment Income | I3: Accounting
A4: Audit / Review Engagement | B4: Artist Fees | C4: Fencing | D4: Content Creation | E4: BC Fairs, Festivals, & Events | F4: Fundraising | G4: Food Sales | I4: Adjudicator Fees
A5: Banking Fees | B5: Artist Materials | C5: First Aid | D5: Digital Advertising | E5: Canada Council for the Arts | F5: Membership Revenue | G5: Fundraising Revenue | I5: Administrative Staff
A6: Board / Committee Expenses | B6: Artistic Director | C6: Food Inventory | D6: Distribution | E6: Canadian Heritage | F6: Organizational Contribution | G6: Merchandise Sales | I6: Advertising
A7: Bookkeeping | B7: Catering for Artists | C7: Freight | D7: Flyer Printing | E7: City of Victoria - Festival Project Grant | F7: Sponsorship | G7: Organizational Reserves | I7: Artist Fees
A8: Business Licence | B8: Cultural Programmer | C8: Fuel | D8: Graphic Design | E8: CRD - Arts & Culture Support Service | G8: Prior Year Surplus | I8: Artist Materials
A9: Event Producer | B9: Curator Fees | C9: Licensed Area Staffing | D9: Marketing Contractor | E9: Creative BC | G9: Registration Fees | I9: Artistic Director
A10: Event Staffing | B10: Exhibition Costs | C10: Lighting Equipment | D10: Media Relations | E10: Destination Canada | G10: Ticket Sales | I10: Audit / Review Engagement
A11: Executive Director | B11: Fabrication Costs | C11: Liquor / Beverage Inventory | D11: Photography | G11: Vendor Fees | I11: AV Equipment
A12: Festival Director | B12: Film Screening Fees | C12: Police | D12: Poster Printing | I12: Banking Fees
A13: Insurance | B13: Guest Speaker Fees | C13: Portable Washrooms | D13: Print Advertising | I13: Board / Committee Expenses
A14: Internet / Phone | B14: Honoraria | C14: Power / Generators | D14: Promotion | I14: Bookkeeping
A15: Legal Fees | B15: Indigenous Welcome Honoraria | C15: Production Crew | D15: Radio Advertising | I15: Business Licence
A16: Office Administration | B16: Licensing Fees | C16: Security | D16: Signage | I16: Catering for Artists
A17: Office Expenses | B17: Meals | C17: Site Crew | D17: Social Media | I17: Communications Staff
A18: Office Rent | B18: Performer Fees | C18: Sound Equipment | D18: Videography | I18: Content Creation
A19: Office Supplies | B19: Presenter Fees | C19: Stage Management | D19: Website | I19: Cultural Programmer
A20: Operations Manager | B20: Production Materials | C20: Stage Rental | I20: Curator Fees
A21: Planning Meetings | B21: Royalties | C21: Storage | I21: Digital Advertising
A22: Postage / Courier | B22: Travel | C22: Tables & Chairs | I22: Distribution
A23: Program Manager | B23: Workshop Facilitator Fees | C23: Technical Staff | I23: Equipment Rental
A24: Project Coordinator | C24: Tents & Structures | I24: Event Producer
A25: Project Manager | C25: Traffic Control | I25: Event Staffing
A26: Registration Fees | C26: Transportation | I26: Executive Director
A27: Software Subscriptions | C27: Venue Rental | I27: Exhibition Costs
A28: Summer Student | C28: Volunteer Apparel | I28: Fabrication Costs
A29: Utilities | C29: Volunteer Food | I29: Fencing
A30: Volunteer Coordinator | C30: Waste Management | I30: Festival Director
A31: Volunteer Recruitment Costs | I31: Film Screening Fees
I32: First Aid
I33: Flyer Printing
I34: Food Inventory
I35: Freight
I36: Fuel
I37: Graphic Design
I38: Guest Speaker Fees
I39: Honoraria
I40: Indigenous Welcome Honoraria
...

Sheet Import Summary
A1: Categories | B1: Total
A2: Budget Government Confirmed Revenue | B2: =SUM('FPG Financial Report Template'!E124) -> 0
A3: Budget Government Pending Revenue | B3: =SUM('FPG Financial Report Template'!E135) -> 0
A4: Budget Private Sector Revenue | B4: =SUM('FPG Financial Report Template'!E146) -> 0
A5: Budget Earned Revenue | B5: =SUM('FPG Financial Report Template'!E178) -> 0
A6: Budget Other Revenue | B6: =SUM('FPG Financial Report Template'!E189) -> 0
A7: Budget In-Kind Revenue | B7: =SUM('FPG Financial Report Template'!E157) -> 0
A8: Budget Total Revenue | B8: =SUM('FPG Financial Report Template'!E200) -> 0
A9: Budget Administration Expenses | B9: =SUM('FPG Financial Report Template'!E7) -> 0
A10: Budget Artistic Expenses | B10: =SUM('FPG Financial Report Template'!E29) -> 0
A11: Budget Production Expenses | B11: =SUM('FPG Financial Report Template'!E51) -> 0
A12: Budget Marketing Expenses | B12: =SUM('FPG Financial Report Template'!E73) -> 0
A13: Budget Other Expenses | B13: =SUM('FPG Financial Report Template'!E95) -> 0
A14: Budget In-Kind Expenses | B14: =SUM('FPG Financial Report Template'!E118) -> 0
A15: Budget Total Expenses | B15: =SUM('FPG Financial Report Template'!E119) -> 0
A16: Budget Cash Expenses | B16: ='FPG Financial Report Template'!E117 -> 0
A17: Budget Surplus Deficit | B17: =SUM('FPG Financial Report Template'!E207) -> 0
A18: Actual Government Confirmed Revenue | B18: =SUM('FPG Financial Report Template'!F124) -> 0
A19: Actual Government Pending Revenue | B19: =SUM('FPG Financial Report Template'!F135) -> 0
A20: Actual Private Sector Revenue | B20: =SUM('FPG Financial Report Template'!F146) -> 0
A21: Actual Earned Revenue | B21: =SUM('FPG Financial Report Template'!F178) -> 0
A22: Actual Other Revenue | B22: =SUM('FPG Financial Report Template'!F189) -> 0
A23: Actual In-Kind Revenue | B23: =SUM('FPG Financial Report Template'!F201) -> 0
A24: Actual Total Revenue | B24: =SUM('FPG Financial Report Template'!F200) -> 0
A25: Actual Administration Expense | B25: =SUM('FPG Financial Report Template'!F7) -> 0
A26: Actual Artistic Expenses | B26: =SUM('FPG Financial Report Template'!F29) -> 0
A27: Actual Marketing Expenses | B27: =SUM('FPG Financial Report Template'!F73) -> 0
A28: Actual Other Expenses | B28: =SUM('FPG Financial Report Template'!F95) -> 0
A29: Actual In-Kind Expenses | B29: =SUM('FPG Financial Report Template'!F118) -> 0
A30: Actual Total Expenses | B30: =SUM('FPG Financial Report Template'!F119) -> 0
A31: Actual Cash Expenses | B31: ='FPG Financial Report Template'!F117 -> 0
A32: Actual Surplus Deficit | B32: =SUM('FPG Financial Report Template'!F207) -> 0
A33: Grant Request Amount | B33: ='FPG Financial Report Template'!F4 -> 0
